Package: codelink Version: 1.72.0 Command: rm -rf codelink.buildbin-libdir && mkdir codelink.buildbin-libdir && F:\biocbuild\bbs-3.19-bioc\R\bin\R.exe CMD INSTALL --build --library=codelink.buildbin-libdir codelink_1.72.0.tar.gz StartedAt: 2024-06-27 08:01:33 -0400 (Thu, 27 Jun 2024) EndedAt: 2024-06-27 08:02:05 -0400 (Thu, 27 Jun 2024) EllapsedTime: 32.3 seconds RetCode: 0 Status: OK PackageFile: codelink_1.72.0.zip PackageFileSize: 3.571 MiB