Package: codelink Version: 1.72.0 Command: /home/biocbuild/bbs-3.19-bioc/R/bin/R CMD INSTALL codelink StartedAt: 2024-10-16 16:05:37 -0400 (Wed, 16 Oct 2024) EndedAt: 2024-10-16 16:05:53 -0400 (Wed, 16 Oct 2024) EllapsedTime: 16.7 seconds RetCode: 0 Status: OK