Package: codelink Version: 1.72.0 Command: /home/biocbuild/bbs-3.19-bioc/R/bin/R CMD check --install=check:codelink.install-out.txt --library=/home/biocbuild/bbs-3.19-bioc/R/site-library --timings codelink_1.72.0.tar.gz StartedAt: 2024-10-16 22:57:52 -0400 (Wed, 16 Oct 2024) EndedAt: 2024-10-16 23:00:02 -0400 (Wed, 16 Oct 2024) EllapsedTime: 130.2 seconds RetCode: 0 Status: OK CheckDir: codelink.Rcheck Warnings: 0