Package: codelink Version: 1.72.0 Command: /Library/Frameworks/R.framework/Resources/bin/R CMD INSTALL codelink StartedAt: 2024-10-16 15:33:10 -0400 (Wed, 16 Oct 2024) EndedAt: 2024-10-16 15:33:56 -0400 (Wed, 16 Oct 2024) EllapsedTime: 46.0 seconds RetCode: 0 Status: OK