Package: codelink Version: 1.72.0 Command: /Library/Frameworks/R.framework/Resources/bin/R CMD build --keep-empty-dirs --no-resave-data codelink StartedAt: 2024-10-16 18:06:13 -0400 (Wed, 16 Oct 2024) EndedAt: 2024-10-16 18:07:44 -0400 (Wed, 16 Oct 2024) EllapsedTime: 91.3 seconds RetCode: 0 Status: OK PackageFile: codelink_1.72.0.tar.gz PackageFileSize: 3.181 MiB