Package: codelink Version: 1.72.0 Command: /home/biocbuild/R/R-beta-2024-04-15_r86425/bin/R CMD INSTALL codelink StartedAt: 2024-05-08 20:23:56 -0000 (Wed, 08 May 2024) EndedAt: 2024-05-08 20:24:21 -0000 (Wed, 08 May 2024) EllapsedTime: 24.5 seconds RetCode: 0 Status: OK