Package: codelink Version: 1.72.0 Command: /home/biocbuild/R/R-beta-2024-04-15_r86425/bin/R CMD build --keep-empty-dirs --no-resave-data codelink StartedAt: 2024-05-08 23:26:52 -0000 (Wed, 08 May 2024) EndedAt: 2024-05-08 23:27:34 -0000 (Wed, 08 May 2024) EllapsedTime: 41.1 seconds RetCode: 0 Status: OK PackageFile: codelink_1.72.0.tar.gz PackageFileSize: 3.169 MiB