Package: codelink Version: 1.72.0 Command: rm -rf codelink.buildbin-libdir && mkdir codelink.buildbin-libdir && /Users/biocbuild/BBS/utils/build-universal.sh codelink_1.72.0.tar.gz /Library/Frameworks/R.framework/Resources/bin/R codelink.buildbin-libdir StartedAt: 2024-10-18 17:52:17 -0400 (Fri, 18 Oct 2024) EndedAt: 2024-10-18 17:52:42 -0400 (Fri, 18 Oct 2024) EllapsedTime: 25.1 seconds RetCode: 0 Status: OK PackageFile: codelink_1.72.0.tgz PackageFileSize: 3.57 MiB