Package: coRdon Version: 1.22.0 Command: rm -rf coRdon.buildbin-libdir && mkdir coRdon.buildbin-libdir && F:\biocbuild\bbs-3.19-bioc\R\bin\R.exe CMD INSTALL --build --library=coRdon.buildbin-libdir coRdon_1.22.0.tar.gz StartedAt: 2024-06-27 08:02:39 -0400 (Thu, 27 Jun 2024) EndedAt: 2024-06-27 08:03:12 -0400 (Thu, 27 Jun 2024) EllapsedTime: 32.7 seconds RetCode: 0 Status: OK PackageFile: coRdon_1.22.0.zip PackageFileSize: 1.423 MiB