Package: coRdon Version: 1.22.0 Command: /Library/Frameworks/R.framework/Resources/bin/R CMD build --keep-empty-dirs --no-resave-data coRdon StartedAt: 2024-10-16 18:13:49 -0400 (Wed, 16 Oct 2024) EndedAt: 2024-10-16 18:15:57 -0400 (Wed, 16 Oct 2024) EllapsedTime: 128.5 seconds RetCode: 0 Status: OK PackageFile: coRdon_1.22.0.tar.gz PackageFileSize: 2.266 MiB