Package: coRdon Version: 1.22.0 Command: /Library/Frameworks/R.framework/Resources/bin/R CMD INSTALL coRdon StartedAt: 2024-06-09 15:08:42 -0400 (Sun, 09 Jun 2024) EndedAt: 2024-06-09 15:09:05 -0400 (Sun, 09 Jun 2024) EllapsedTime: 22.7 seconds RetCode: 0 Status: OK