Package: coRdon Version: 1.22.0 Command: /Library/Frameworks/R.framework/Resources/bin/R CMD check --install=check:coRdon.install-out.txt --library=/Library/Frameworks/R.framework/Resources/library --no-vignettes --timings coRdon_1.22.0.tar.gz StartedAt: 2024-06-09 19:37:44 -0400 (Sun, 09 Jun 2024) EndedAt: 2024-06-09 19:39:55 -0400 (Sun, 09 Jun 2024) EllapsedTime: 131.4 seconds RetCode: 0 Status: OK CheckDir: coRdon.Rcheck Warnings: 0