Package: coRdon Version: 1.22.0 Command: /Library/Frameworks/R.framework/Resources/bin/R CMD INSTALL coRdon StartedAt: 2024-06-09 15:22:56 -0400 (Sun, 09 Jun 2024) EndedAt: 2024-06-09 15:23:20 -0400 (Sun, 09 Jun 2024) EllapsedTime: 23.5 seconds RetCode: 0 Status: OK