Package: coRdon Version: 1.22.0 Command: rm -rf coRdon.buildbin-libdir && mkdir coRdon.buildbin-libdir && /Users/biocbuild/BBS/utils/build-universal.sh coRdon_1.22.0.tar.gz /Library/Frameworks/R.framework/Resources/bin/R coRdon.buildbin-libdir StartedAt: 2024-06-11 10:42:56 -0400 (Tue, 11 Jun 2024) EndedAt: 2024-06-11 10:43:29 -0400 (Tue, 11 Jun 2024) EllapsedTime: 33.4 seconds RetCode: 0 Status: OK PackageFile: coRdon_1.22.0.tgz PackageFileSize: 2.75 MiB