Package: coMethDMR Version: 1.8.0 Command: chmod a+r coMethDMR -R && F:\biocbuild\bbs-3.19-bioc\R\bin\R.exe CMD build --keep-empty-dirs --no-resave-data coMethDMR StartedAt: 2024-06-26 17:57:36 -0400 (Wed, 26 Jun 2024) EndedAt: 2024-06-26 18:04:15 -0400 (Wed, 26 Jun 2024) EllapsedTime: 399.8 seconds RetCode: 0 Status: OK PackageFile: coMethDMR_1.8.0.tar.gz PackageFileSize: 3.073 MiB