Package: coMethDMR Version: 1.8.0 Command: /Library/Frameworks/R.framework/Resources/bin/R CMD build --keep-empty-dirs --no-resave-data coMethDMR StartedAt: 2024-10-16 18:08:43 -0400 (Wed, 16 Oct 2024) EndedAt: 2024-10-16 18:17:23 -0400 (Wed, 16 Oct 2024) EllapsedTime: 520.2 seconds RetCode: 0 Status: OK PackageFile: coMethDMR_1.8.0.tar.gz PackageFileSize: 3.103 MiB