Package: coMethDMR Version: 1.8.0 Command: /Library/Frameworks/R.framework/Resources/bin/R CMD INSTALL coMethDMR StartedAt: 2024-06-09 16:43:22 -0400 (Sun, 09 Jun 2024) EndedAt: 2024-06-09 16:44:31 -0400 (Sun, 09 Jun 2024) EllapsedTime: 69.5 seconds RetCode: 0 Status: OK