Package: coMET Version: 1.36.0 Command: E:\biocbuild\bbs-3.19-bioc\R\bin\R.exe CMD INSTALL coMET StartedAt: 2024-10-16 16:47:59 -0400 (Wed, 16 Oct 2024) EndedAt: 2024-10-16 16:49:32 -0400 (Wed, 16 Oct 2024) EllapsedTime: 92.4 seconds RetCode: 0 Status: OK