Package: coMET Version: 1.36.0 Command: chmod a+r coMET -R && E:\biocbuild\bbs-3.19-bioc\R\bin\R.exe CMD build --keep-empty-dirs --no-resave-data coMET StartedAt: 2024-10-16 18:19:58 -0400 (Wed, 16 Oct 2024) EndedAt: 2024-10-16 18:23:41 -0400 (Wed, 16 Oct 2024) EllapsedTime: 222.4 seconds RetCode: 0 Status: OK PackageFile: coMET_1.36.0.tar.gz PackageFileSize: 21.84 MiB