Package: coMET Version: 1.36.0 Command: rm -rf coMET.buildbin-libdir && mkdir coMET.buildbin-libdir && E:\biocbuild\bbs-3.19-bioc\R\bin\R.exe CMD INSTALL --build --library=coMET.buildbin-libdir coMET_1.36.0.tar.gz StartedAt: 2024-10-17 07:34:44 -0400 (Thu, 17 Oct 2024) EndedAt: 2024-10-17 07:36:08 -0400 (Thu, 17 Oct 2024) EllapsedTime: 84.0 seconds RetCode: 0 Status: OK PackageFile: coMET_1.36.0.zip PackageFileSize: 21.81 MiB