Package: coMET Version: 1.36.0 Command: F:\biocbuild\bbs-3.19-bioc\R\bin\R.exe CMD check --no-multiarch --install=check:coMET.install-out.txt --library=F:\biocbuild\bbs-3.19-bioc\R\library --no-vignettes --timings coMET_1.36.0.tar.gz StartedAt: 2024-06-27 00:19:34 -0400 (Thu, 27 Jun 2024) EndedAt: 2024-06-27 00:29:35 -0400 (Thu, 27 Jun 2024) EllapsedTime: 601.0 seconds RetCode: 1 Status: ERROR CheckDir: coMET.Rcheck Warnings: NA