Package: coMET Version: 1.36.0 Command: /home/biocbuild/bbs-3.19-bioc/R/bin/R CMD check --install=check:coMET.install-out.txt --library=/home/biocbuild/bbs-3.19-bioc/R/site-library --timings coMET_1.36.0.tar.gz StartedAt: 2024-10-16 23:01:04 -0400 (Wed, 16 Oct 2024) EndedAt: 2024-10-16 23:11:25 -0400 (Wed, 16 Oct 2024) EllapsedTime: 620.4 seconds RetCode: 1 Status: ERROR CheckDir: coMET.Rcheck Warnings: NA