Package: coMET Version: 1.36.0 Command: /Library/Frameworks/R.framework/Resources/bin/R CMD build --keep-empty-dirs --no-resave-data coMET StartedAt: 2024-06-09 16:16:10 -0400 (Sun, 09 Jun 2024) EndedAt: 2024-06-09 16:19:00 -0400 (Sun, 09 Jun 2024) EllapsedTime: 169.6 seconds RetCode: 1 Status: ERROR PackageFile: None PackageFileSize: NA