Package: coMET Version: 1.36.0 Command: rm -rf coMET.buildbin-libdir && mkdir coMET.buildbin-libdir && /Users/biocbuild/BBS/utils/build-universal.sh coMET_1.36.0.tar.gz /Library/Frameworks/R.framework/Resources/bin/R coMET.buildbin-libdir StartedAt: 2024-10-18 17:53:10 -0400 (Fri, 18 Oct 2024) EndedAt: 2024-10-18 17:54:36 -0400 (Fri, 18 Oct 2024) EllapsedTime: 86.1 seconds RetCode: 0 Status: OK PackageFile: coMET_1.36.0.tgz PackageFileSize: 21.82 MiB