Package: coGPS Version: 1.48.0 Command: E:\biocbuild\bbs-3.19-bioc\R\bin\R.exe CMD INSTALL coGPS StartedAt: 2024-10-16 15:59:57 -0400 (Wed, 16 Oct 2024) EndedAt: 2024-10-16 16:00:27 -0400 (Wed, 16 Oct 2024) EllapsedTime: 30.2 seconds RetCode: 0 Status: OK