Package: coGPS Version: 1.48.0 Command: chmod a+r coGPS -R && F:\biocbuild\bbs-3.19-bioc\R\bin\R.exe CMD build --keep-empty-dirs --no-resave-data coGPS StartedAt: 2024-06-26 17:56:30 -0400 (Wed, 26 Jun 2024) EndedAt: 2024-06-26 17:56:44 -0400 (Wed, 26 Jun 2024) EllapsedTime: 14.5 seconds RetCode: 0 Status: OK PackageFile: coGPS_1.48.0.tar.gz PackageFileSize: 1.64 MiB