Package: coGPS Version: 1.48.0 Command: /Library/Frameworks/R.framework/Resources/bin/R CMD build --keep-empty-dirs --no-resave-data coGPS StartedAt: 2024-10-16 21:59:48 -0400 (Wed, 16 Oct 2024) EndedAt: 2024-10-16 22:00:04 -0400 (Wed, 16 Oct 2024) EllapsedTime: 15.9 seconds RetCode: 0 Status: OK PackageFile: coGPS_1.48.0.tar.gz PackageFileSize: 1.762 MiB