Package: cnvGSA Version: 1.48.0 Command: rm -rf cnvGSA.buildbin-libdir && mkdir cnvGSA.buildbin-libdir && E:\biocbuild\bbs-3.19-bioc\R\bin\R.exe CMD INSTALL --build --library=cnvGSA.buildbin-libdir cnvGSA_1.48.0.tar.gz StartedAt: 2024-10-17 07:34:09 -0400 (Thu, 17 Oct 2024) EndedAt: 2024-10-17 07:34:29 -0400 (Thu, 17 Oct 2024) EllapsedTime: 20.5 seconds RetCode: 0 Status: OK PackageFile: cnvGSA_1.48.0.zip PackageFileSize: 359.7 KiB