Package: cnvGSA Version: 1.48.0 Command: chmod a+r cnvGSA -R && F:\biocbuild\bbs-3.19-bioc\R\bin\R.exe CMD build --keep-empty-dirs --no-resave-data cnvGSA StartedAt: 2024-06-26 17:54:53 -0400 (Wed, 26 Jun 2024) EndedAt: 2024-06-26 17:55:12 -0400 (Wed, 26 Jun 2024) EllapsedTime: 19.0 seconds RetCode: 0 Status: OK PackageFile: cnvGSA_1.48.0.tar.gz PackageFileSize: 260 KiB