Package: cnvGSA Version: 1.48.0 Command: /Library/Frameworks/R.framework/Resources/bin/R CMD INSTALL cnvGSA StartedAt: 2024-10-16 15:17:14 -0400 (Wed, 16 Oct 2024) EndedAt: 2024-10-16 15:17:41 -0400 (Wed, 16 Oct 2024) EllapsedTime: 26.9 seconds RetCode: 0 Status: OK