Package: cnvGSA Version: 1.48.0 Command: /Library/Frameworks/R.framework/Resources/bin/R CMD build --keep-empty-dirs --no-resave-data cnvGSA StartedAt: 2024-10-16 18:05:32 -0400 (Wed, 16 Oct 2024) EndedAt: 2024-10-16 18:06:08 -0400 (Wed, 16 Oct 2024) EllapsedTime: 36.2 seconds RetCode: 0 Status: OK PackageFile: cnvGSA_1.48.0.tar.gz PackageFileSize: 334.3 KiB