Package: cnvGSA Version: 1.48.0 Command: /home/biocbuild/R/R-beta-2024-04-15_r86425/bin/R CMD check --install=check:cnvGSA.install-out.txt --library=/home/biocbuild/R/R-beta-2024-04-15_r86425/site-library --no-vignettes --timings cnvGSA_1.48.0.tar.gz StartedAt: 2024-05-09 06:01:20 -0000 (Thu, 09 May 2024) EndedAt: 2024-05-09 06:02:46 -0000 (Thu, 09 May 2024) EllapsedTime: 86.2 seconds RetCode: 0 Status: OK CheckDir: cnvGSA.Rcheck Warnings: 0