Package: cnvGSA Version: 1.48.0 Command: /Library/Frameworks/R.framework/Resources/bin/R CMD build --keep-empty-dirs --no-resave-data cnvGSA StartedAt: 2024-06-09 19:42:48 -0400 (Sun, 09 Jun 2024) EndedAt: 2024-06-09 19:43:07 -0400 (Sun, 09 Jun 2024) EllapsedTime: 19.3 seconds RetCode: 0 Status: OK PackageFile: cnvGSA_1.48.0.tar.gz PackageFileSize: 334 KiB