Package: cn.mops Version: 1.50.0 Command: chmod a+r cn.mops -R && E:\biocbuild\bbs-3.19-bioc\R\bin\R.exe CMD build --keep-empty-dirs --no-resave-data cn.mops StartedAt: 2024-10-16 18:16:55 -0400 (Wed, 16 Oct 2024) EndedAt: 2024-10-16 18:18:10 -0400 (Wed, 16 Oct 2024) EllapsedTime: 75.1 seconds RetCode: 0 Status: OK PackageFile: cn.mops_1.50.0.tar.gz PackageFileSize: 954.2 KiB