Package: cn.mops Version: 1.50.0 Command: rm -rf cn.mops.buildbin-libdir && mkdir cn.mops.buildbin-libdir && F:\biocbuild\bbs-3.19-bioc\R\bin\R.exe CMD INSTALL --build --library=cn.mops.buildbin-libdir cn.mops_1.50.0.tar.gz StartedAt: 2024-06-27 08:00:50 -0400 (Thu, 27 Jun 2024) EndedAt: 2024-06-27 08:01:37 -0400 (Thu, 27 Jun 2024) EllapsedTime: 47.2 seconds RetCode: 0 Status: OK PackageFile: cn.mops_1.50.0.zip PackageFileSize: 1.317 MiB