Package: cn.mops Version: 1.50.0 Command: /Library/Frameworks/R.framework/Resources/bin/R CMD check --install=check:cn.mops.install-out.txt --library=/Library/Frameworks/R.framework/Resources/library --no-vignettes --timings cn.mops_1.50.0.tar.gz StartedAt: 2024-10-17 02:58:45 -0400 (Thu, 17 Oct 2024) EndedAt: 2024-10-17 03:07:18 -0400 (Thu, 17 Oct 2024) EllapsedTime: 513.9 seconds RetCode: 0 Status: OK CheckDir: cn.mops.Rcheck Warnings: 0