Package: cn.mops Version: 1.50.0 Command: rm -rf cn.mops.buildbin-libdir && mkdir cn.mops.buildbin-libdir && /Users/biocbuild/BBS/utils/build-universal.sh cn.mops_1.50.0.tar.gz /Library/Frameworks/R.framework/Resources/bin/R cn.mops.buildbin-libdir StartedAt: 2024-10-17 15:52:46 -0400 (Thu, 17 Oct 2024) EndedAt: 2024-10-17 15:53:39 -0400 (Thu, 17 Oct 2024) EllapsedTime: 53.0 seconds RetCode: 0 Status: OK PackageFile: cn.mops_1.50.0.tgz PackageFileSize: 1.382 MiB