Package: cn.mops Version: 1.50.0 Command: rm -rf cn.mops.buildbin-libdir && mkdir cn.mops.buildbin-libdir && /Users/biocbuild/BBS/utils/build-universal.sh cn.mops_1.50.0.tar.gz /Library/Frameworks/R.framework/Resources/bin/R cn.mops.buildbin-libdir StartedAt: 2024-06-10 00:12:00 -0400 (Mon, 10 Jun 2024) EndedAt: 2024-06-10 00:12:29 -0400 (Mon, 10 Jun 2024) EllapsedTime: 29.2 seconds RetCode: 0 Status: OK PackageFile: cn.mops_1.50.0.tgz PackageFileSize: 1.383 MiB