Package: cn.mops Version: 1.50.0 Command: /Library/Frameworks/R.framework/Resources/bin/R CMD build --keep-empty-dirs --no-resave-data cn.mops StartedAt: 2024-06-09 19:41:02 -0400 (Sun, 09 Jun 2024) EndedAt: 2024-06-09 19:41:53 -0400 (Sun, 09 Jun 2024) EllapsedTime: 50.8 seconds RetCode: 0 Status: OK PackageFile: cn.mops_1.50.0.tar.gz PackageFileSize: 1.003 MiB