Package: cn.mops Version: 1.50.0 Command: /Library/Frameworks/R.framework/Resources/bin/R CMD build --keep-empty-dirs --no-resave-data cn.mops StartedAt: 2024-10-16 21:52:05 -0400 (Wed, 16 Oct 2024) EndedAt: 2024-10-16 21:52:56 -0400 (Wed, 16 Oct 2024) EllapsedTime: 51.0 seconds RetCode: 0 Status: OK PackageFile: cn.mops_1.50.0.tar.gz PackageFileSize: 1.003 MiB