Package: cn.farms Version: 1.52.0 Command: E:\biocbuild\bbs-3.19-bioc\R\bin\R.exe CMD INSTALL cn.farms StartedAt: 2024-10-16 16:23:37 -0400 (Wed, 16 Oct 2024) EndedAt: 2024-10-16 16:24:37 -0400 (Wed, 16 Oct 2024) EllapsedTime: 59.7 seconds RetCode: 0 Status: OK