Package: cn.farms Version: 1.52.0 Command: chmod a+r cn.farms -R && F:\biocbuild\bbs-3.19-bioc\R\bin\R.exe CMD build --keep-empty-dirs --no-resave-data cn.farms StartedAt: 2024-06-26 17:53:16 -0400 (Wed, 26 Jun 2024) EndedAt: 2024-06-26 17:54:18 -0400 (Wed, 26 Jun 2024) EllapsedTime: 62.1 seconds RetCode: 0 Status: OK PackageFile: cn.farms_1.52.0.tar.gz PackageFileSize: 2.239 MiB