Package: cn.farms Version: 1.52.0 Command: rm -rf cn.farms.buildbin-libdir && mkdir cn.farms.buildbin-libdir && F:\biocbuild\bbs-3.19-bioc\R\bin\R.exe CMD INSTALL --build --library=cn.farms.buildbin-libdir cn.farms_1.52.0.tar.gz StartedAt: 2024-06-27 08:00:47 -0400 (Thu, 27 Jun 2024) EndedAt: 2024-06-27 08:01:40 -0400 (Thu, 27 Jun 2024) EllapsedTime: 53.2 seconds RetCode: 0 Status: OK PackageFile: cn.farms_1.52.0.zip PackageFileSize: 2.727 MiB