Package: cn.farms Version: 1.52.0 Command: /Library/Frameworks/R.framework/Resources/bin/R CMD check --install=check:cn.farms.install-out.txt --library=/Library/Frameworks/R.framework/Resources/library --no-vignettes --timings cn.farms_1.52.0.tar.gz StartedAt: 2024-06-09 19:30:25 -0400 (Sun, 09 Jun 2024) EndedAt: 2024-06-09 19:34:15 -0400 (Sun, 09 Jun 2024) EllapsedTime: 229.2 seconds RetCode: 0 Status: OK CheckDir: cn.farms.Rcheck Warnings: 0