Package: cn.farms Version: 1.52.0 Command: rm -rf cn.farms.buildbin-libdir && mkdir cn.farms.buildbin-libdir && /Users/biocbuild/BBS/utils/build-universal.sh cn.farms_1.52.0.tar.gz /Library/Frameworks/R.framework/Resources/bin/R cn.farms.buildbin-libdir StartedAt: 2024-06-10 00:11:57 -0400 (Mon, 10 Jun 2024) EndedAt: 2024-06-10 00:12:42 -0400 (Mon, 10 Jun 2024) EllapsedTime: 45.2 seconds RetCode: 0 Status: OK PackageFile: cn.farms_1.52.0.tgz PackageFileSize: 2.467 MiB