Package: cn.farms Version: 1.52.0 Command: /home/biocbuild/R/R-beta-2024-04-15_r86425/bin/R CMD build --keep-empty-dirs --no-resave-data cn.farms StartedAt: 2024-05-08 23:24:39 -0000 (Wed, 08 May 2024) EndedAt: 2024-05-08 23:25:39 -0000 (Wed, 08 May 2024) EllapsedTime: 60.1 seconds RetCode: 0 Status: OK PackageFile: cn.farms_1.52.0.tar.gz PackageFileSize: 2.286 MiB