Package: cn.farms Version: 1.52.0 Command: /Library/Frameworks/R.framework/Resources/bin/R CMD INSTALL cn.farms StartedAt: 2024-10-16 16:18:34 -0400 (Wed, 16 Oct 2024) EndedAt: 2024-10-16 16:19:13 -0400 (Wed, 16 Oct 2024) EllapsedTime: 38.3 seconds RetCode: 0 Status: OK