Package: cn.farms Version: 1.52.0 Maintainer: Andreas Mitterecker MaintainerEmail: mitterecker at ml.jku.at git_url: https://git.bioconductor.org/packages/cn.farms git_branch: RELEASE_3_19 git_last_commit: 34535c2 git_last_commit_date: 2024-04-30 10:23:55 -0400 (Tue, 30 Apr 2024)