Package: cmapR Version: 1.16.0 Command: /home/biocbuild/bbs-3.19-bioc/R/bin/R CMD build --keep-empty-dirs --no-resave-data cmapR StartedAt: 2024-10-16 17:51:36 -0400 (Wed, 16 Oct 2024) EndedAt: 2024-10-16 17:52:30 -0400 (Wed, 16 Oct 2024) EllapsedTime: 53.1 seconds RetCode: 0 Status: OK PackageFile: cmapR_1.16.0.tar.gz PackageFileSize: 3.735 MiB