Package: clustifyr Version: 1.16.2 Command: rm -rf clustifyr.buildbin-libdir && mkdir clustifyr.buildbin-libdir && E:\biocbuild\bbs-3.19-bioc\R\bin\R.exe CMD INSTALL --build --library=clustifyr.buildbin-libdir clustifyr_1.16.2.tar.gz StartedAt: 2024-10-17 07:33:27 -0400 (Thu, 17 Oct 2024) EndedAt: 2024-10-17 07:34:28 -0400 (Thu, 17 Oct 2024) EllapsedTime: 60.7 seconds RetCode: 0 Status: OK PackageFile: clustifyr_1.16.2.zip PackageFileSize: 3.567 MiB